BEGIN:VCALENDAR
VERSION:2.0
PRODID:-//Enrique Ramos &amp; Com - ECPv6.15.20//NONSGML v1.0//EN
CALSCALE:GREGORIAN
METHOD:PUBLISH
X-ORIGINAL-URL:https://enramos.com
X-WR-CALDESC:Eventos para Enrique Ramos &amp; Com
REFRESH-INTERVAL;VALUE=DURATION:PT1H
X-Robots-Tag:noindex
X-PUBLISHED-TTL:PT1H
BEGIN:VTIMEZONE
TZID:Europe/Helsinki
BEGIN:DAYLIGHT
TZOFFSETFROM:+0200
TZOFFSETTO:+0300
TZNAME:EEST
DTSTART:20250330T010000
END:DAYLIGHT
BEGIN:STANDARD
TZOFFSETFROM:+0300
TZOFFSETTO:+0200
TZNAME:EET
DTSTART:20251026T010000
END:STANDARD
BEGIN:DAYLIGHT
TZOFFSETFROM:+0200
TZOFFSETTO:+0300
TZNAME:EEST
DTSTART:20260329T010000
END:DAYLIGHT
BEGIN:STANDARD
TZOFFSETFROM:+0300
TZOFFSETTO:+0200
TZNAME:EET
DTSTART:20261025T010000
END:STANDARD
BEGIN:DAYLIGHT
TZOFFSETFROM:+0200
TZOFFSETTO:+0300
TZNAME:EEST
DTSTART:20270328T010000
END:DAYLIGHT
BEGIN:STANDARD
TZOFFSETFROM:+0300
TZOFFSETTO:+0200
TZNAME:EET
DTSTART:20271031T010000
END:STANDARD
END:VTIMEZONE
BEGIN:VEVENT
DTSTART;VALUE=DATE:20261209
DTEND;VALUE=DATE:20261210
DTSTAMP:20260425T130906
CREATED:20221205T085725Z
LAST-MODIFIED:20251213T081743Z
UID:25853-1796774400-1796860799@enramos.com
SUMMARY:Día Internacional contra la Corrupción
DESCRIPTION:El 9 de diciembre se celebra el Día Internacional contra la Corrupción \nEl mundo actual se enfrenta a algunos de sus mayores retos para muchas generaciones\, retos que amenazan la prosperidad y la estabilidad de los pueblos de todo el planeta. La plaga de la corrupción se entrelaza en la mayoría de ellos. \nLa corrupción tiene repercusiones negativas en todos los aspectos de la sociedad y está profundamente ligada a los conflictos y la inestabilidad\, poniendo en peligro el desarrollo social y económico y las instituciones democráticas y el Estado de derecho. \nLa corrupción no solo sigue al conflicto\, sino que a menudo es una de sus causas fundamentales. Alimenta los conflictos e inhibe los procesos de paz al socavar el Estado de derecho\, agravar la pobreza\, facilitar el uso ilícito de recursos y proporcionar financiación para los conflictos armados. \nLa prevención de la corrupción\, el fomento de la transparencia y el fortalecimiento de las instituciones son fundamentales para alcanzar las metas previstas en los Objetivos de Desarrollo Sostenible. \nEl Día Internacional contra la Corrupción de 2022 tiene por objetivo poner de relieve el vínculo crucial entre la lucha contra la corrupción y la paz\, la seguridad y el desarrollo. Su núcleo es la noción de que la lucha contra este delito es un derecho y una responsabilidad de todos\, y que solo a través de la cooperación y la implicación de todas y cada una de las personas e instituciones podremos superar el impacto negativo de este delito. Los Estados\, los funcionarios públicos\, los agentes de la ley\, los representantes de los medios de comunicación\, el sector privado\, la sociedad civil\, el mundo académico\, el público y los jóvenes tienen un papel que desempeñar para unir al mundo contra la corrupción. \nEste año\, el día marca\, además\, el inicio de los esfuerzos para conmemorar el vigésimo aniversario de la Convención de las Naciones Unidas contra la Corrupción (CNUCC). A lo largo del próximo año\, y hasta celebración del día en 2023\, reflexionaremos sobre un mundo que ha mejorado gracias al impulso colectivo que ha supuesto la Convención y\, sobre todo\, sobre las lagunas que quedan para garantizar que se trate de un mecanismo verdaderamente sólido para los próximos años. \nAntecedentes\nLa corrupción es un complejo fenómeno social\, político y económico\, que afecta a todos los países. Por ejemplo\, socava las instituciones democráticas al distorsionar los procesos electorales\, pervertir el imperio de la ley y crear atolladeros burocráticos\, cuya única razón de ser es la de solicitar sobornos. También atrofia los cimientos del desarrollo económico\, ya que desalienta la inversión extranjera directa y a las pequeñas empresas nacionales les resulta a menudo imposible superar los «gastos iniciales» requeridos por la corrupción. \nEl 31 de octubre de 2003\, la Asamblea General aprobó la Convención de las Naciones Unidas contra la Corrupción Documento PDF\, que entró en vigor en diciembre de 2005\, y pidió al Secretario General que designara a la Oficina de las Naciones Unidas contra la Droga y el Delito (UNODC) como la secretaría para la Conferencia de los Estados Partes de la Convención. \nPara crear conciencia contra esta lacra y difundir el valioso papel de la Convención a la hora de luchar contra ella y prevenirla\, la Asamblea también designó el 9 de diciembre como Día Internacional contra la Corrupción. \nGobiernos\, el sector privado\, organizaciones no gubernamentales\, medios de comunicación y ciudadanos en todo el mundo estan uniendo fuerzas para combatir este delito. El Programa de Desarrollo de las Naciones Unidas (PNUD) y la Oficina de las Naciones Unidas contra la Droga y el Delito (UNODC) están en primera linea en ese esfuerzo.
URL:https://enramos.com/evento/dia-internacional-contra-la-corrupcion/
CATEGORIES:Efemérides
END:VEVENT
END:VCALENDAR