BEGIN:VCALENDAR
VERSION:2.0
PRODID:-//Enrique Ramos &amp; Com - ECPv6.15.20//NONSGML v1.0//EN
CALSCALE:GREGORIAN
METHOD:PUBLISH
X-ORIGINAL-URL:https://enramos.com
X-WR-CALDESC:Eventos para Enrique Ramos &amp; Com
REFRESH-INTERVAL;VALUE=DURATION:PT1H
X-Robots-Tag:noindex
X-PUBLISHED-TTL:PT1H
BEGIN:VTIMEZONE
TZID:Europe/Helsinki
BEGIN:DAYLIGHT
TZOFFSETFROM:+0200
TZOFFSETTO:+0300
TZNAME:EEST
DTSTART:20190331T010000
END:DAYLIGHT
BEGIN:STANDARD
TZOFFSETFROM:+0300
TZOFFSETTO:+0200
TZNAME:EET
DTSTART:20191027T010000
END:STANDARD
BEGIN:DAYLIGHT
TZOFFSETFROM:+0200
TZOFFSETTO:+0300
TZNAME:EEST
DTSTART:20200329T010000
END:DAYLIGHT
BEGIN:STANDARD
TZOFFSETFROM:+0300
TZOFFSETTO:+0200
TZNAME:EET
DTSTART:20201025T010000
END:STANDARD
BEGIN:DAYLIGHT
TZOFFSETFROM:+0200
TZOFFSETTO:+0300
TZNAME:EEST
DTSTART:20210328T010000
END:DAYLIGHT
BEGIN:STANDARD
TZOFFSETFROM:+0300
TZOFFSETTO:+0200
TZNAME:EET
DTSTART:20211031T010000
END:STANDARD
END:VTIMEZONE
BEGIN:VEVENT
DTSTART;VALUE=DATE:20200723
DTEND;VALUE=DATE:20200724
DTSTAMP:20260425T015412
CREATED:20200721T185202Z
LAST-MODIFIED:20200721T192335Z
UID:24379-1595462400-1595548799@enramos.com
SUMMARY:Día del Libro Post-Covid
DESCRIPTION:El sector del libro se ha unido para recuperar la conmemoración del Día del Libro del 23 de abril (que tuvo que ser suspendida\, desde el punto de vista comercial\, por la pandemia de la COVID-19) y se ha unido para celebrarlo el próximo 23 de Julio. \nSegún CEGAL: \nDurante esa jornada\, los lectores tendrán la oportunidad de disfrutar de múltiples actividades organizadas en las librerías y beneficiarse de hasta un 10% de descuento por la compra de libros. La Ley de la Lectura\, el libro y las bibliotecas establece un régimen de precio fijo para el libro\, si bien marca como excepción la celebración del Día del Libro y Ferias del Libro\, Congreso o Exposiciones del Libro\, siempre que “así lo determinen sus entidades organizadoras\, cuando éstas pertenezcan a los sectores de la edición y comercialización del libro”\, momentos en los que se puede realizar hasta un máximo del 10%. \nCon esta decisión el sector quiere hacer frente a los efectos que la pandemia ha tenido en el conjunto de las empresas y tratar de reactivar sus actividades en un contexto difícil. \nAdemás\, se da continuidad a la campaña iniciada en redes sociales denominada #TodoEmpiezaEnUnaLibrería #TotComençaEnUnaLlibreria #DenaHastenDaLiburudendam #TodoComezaNunhaLibraría que se viene desarrollando desde el 1 de junio y en el que se quiere poner en valor la importancia de las librerías dentro de la cadena del libro. En esta campaña están participando autores y personajes conocidos del mundo de la cultura y los medios de comunicación\, así como libreros\, editores y lectores que han decidido sumarse a la iniciativa elaborando vídeos o publicando mensajes a través de sus redes o a través de los perfiles de la campaña @EmpiezaLibreria (en Twitter) o @TodoEmpiezaenUnaLibrería (en Instagram y Facebook). \nA esta iniciativa se han sumado ya el Ministerio de Cultura\, RENFE\, CEDRO\, Atresmedia\, además de autores\, editores\, libreros y personas del mundo de la cultura\, el arte\, la política\, etcétera. \nLa industria del libro constituye el primer sector cultural del país por sus datos de facturación\, cuenta con un tejido empresarial formado\, fundamentalmente\, por pequeñas y medianas empresas que garantizan la pluralidad y la diversidad. La paralización de la actividad como consecuencia de las medidas adoptadas para combatir la pandemia ha supuesto un impacto enorme en la facturación del conjunto del sector del libro\, estimado inicialmente en unos 1.000 millones de euros\, 800 en el mercado interior del libro y 200 en el mercado exterior. \nDesde que se desató la pandemia\, la Asociación de Cámaras del Libro de España ha reclamado la necesidad de adoptar medidas que contribuyan a paliar estos efectos adversos\, entre ellas incentivar en todo el territorio la adquisición de libros a través del sistema librero\, activar un plan de compras para bibliotecas públicas\, escolares y universitarias o la puesta en marcha de un Bono-libro que\, además\, sirva para fomentar la lectura entre los españoles.
URL:https://enramos.com/evento/dia-del-libro-post-covid/
CATEGORIES:Efemérides
END:VEVENT
END:VCALENDAR