BEGIN:VCALENDAR
VERSION:2.0
PRODID:-//Enrique Ramos &amp; Com - ECPv6.15.20//NONSGML v1.0//EN
CALSCALE:GREGORIAN
METHOD:PUBLISH
X-ORIGINAL-URL:https://enramos.com
X-WR-CALDESC:Eventos para Enrique Ramos &amp; Com
REFRESH-INTERVAL;VALUE=DURATION:PT1H
X-Robots-Tag:noindex
X-PUBLISHED-TTL:PT1H
BEGIN:VTIMEZONE
TZID:Europe/Madrid
BEGIN:DAYLIGHT
TZOFFSETFROM:+0100
TZOFFSETTO:+0200
TZNAME:CEST
DTSTART:20250330T010000
END:DAYLIGHT
BEGIN:STANDARD
TZOFFSETFROM:+0200
TZOFFSETTO:+0100
TZNAME:CET
DTSTART:20251026T010000
END:STANDARD
BEGIN:DAYLIGHT
TZOFFSETFROM:+0100
TZOFFSETTO:+0200
TZNAME:CEST
DTSTART:20260329T010000
END:DAYLIGHT
BEGIN:STANDARD
TZOFFSETFROM:+0200
TZOFFSETTO:+0100
TZNAME:CET
DTSTART:20261025T010000
END:STANDARD
BEGIN:DAYLIGHT
TZOFFSETFROM:+0100
TZOFFSETTO:+0200
TZNAME:CEST
DTSTART:20270328T010000
END:DAYLIGHT
BEGIN:STANDARD
TZOFFSETFROM:+0200
TZOFFSETTO:+0100
TZNAME:CET
DTSTART:20271031T010000
END:STANDARD
END:VTIMEZONE
BEGIN:VEVENT
DTSTART;VALUE=DATE:20260402
DTEND;VALUE=DATE:20260403
DTSTAMP:20260426T013406
CREATED:20260329T080125Z
LAST-MODIFIED:20260331T173637Z
UID:29743-1775088000-1775174399@enramos.com
SUMMARY:Entrada en vigor del DNI Digital (MiDNI)
DESCRIPTION:El DNI Digital (MiDNI) es la billetera digital oficial de España que permite a los ciudadanos llevar su identificación y otras tarjetas en el teléfono móvil. Este sistema\, que ha estado en desarrollo por parte del gobierno durante cinco años\, tiene como fecha clave de implementación el 2 de abril de 2026\, momento a partir del cual el MiDNI será tan válido legalmente como el documento físico en todo el territorio nacional.\n\nA continuación se detallan los aspectos clave de este servicio:\n\nValidez Legal y Obtención\n\nConfirmación oficial: La Policía Nacional ha confirmado que el DNI en el móvil tendrá plena validez en toda España a partir de abril de 2026.\nProceso de activación: Para llevar el DNI en el móvil\, los ciudadanos pueden aprovechar su próxima visita a una comisaría para facilitar el proceso de digitalización.\nIdentificación móvil: El sistema está diseñado para que el usuario pueda identificarse ante las autoridades o entidades privadas sin necesidad de portar la tarjeta física de plástico.\n\nUso en Comercios y Hoteles\n\nObligatoriedad de aceptación: Se estima que para principios de abril de 2026\, los hoteles y comercios estarán obligados a poder leer el DNI digital.\nFalta de preparación: A pesar de esta obligación\, informes recientes indican que ocho de cada diez hoteles y comercios aún no cuentan con los medios técnicos para procesar este formato digital.\nPersistencia de prácticas antiguas: Aunque España ha reforzado el cifrado del DNI al máximo nivel de seguridad\, sigue existiendo el problema de que muchos hoteles insisten en fotocopiar el documento físico\, una práctica que choca con la seguridad de la versión digital.\n\nControversia en los Procesos Electorales\n\nPrueba en las urnas: El MiDNI se estrenó inicialmente como un método para votar sin el documento físico\, demostrando ser resistente a intentos de fraude mediante clonación por inteligencia artificial.\nSuspensión por la Junta Electoral Central (JEC): A pesar de considerarse técnicamente más seguro que el formato físico\, la JEC decidió dar marcha atrás y suspender su uso como documento válido para votar en elecciones.\nMotivos de la exclusión: El tropiezo en su primer gran test electoral se debió a que los expertos consideraron que identificarse mediante la app sin una verificación rigurosa del código QR no cumplía con los estándares de seguridad necesarios para un proceso de votación.\n\nSeguridad y Privacidad\n\nCifrado avanzado: El sistema utiliza protocolos de cifrado de alto nivel para proteger la identidad del usuario.\nRiesgos de identidad: Expertos en ciberseguridad advierten que\, a pesar de la seguridad del MiDNI\, los datos de identidad (DNI) se llegan a vender en el mercado negro por menos de 4 dólares tras filtraciones de otros servicios.\nGestión de contraseñas: Se ha detectado que la contraseña del DNI es una de las más importantes para los ciudadanos\, pero generalmente no se guarda ni se protege de manera adecuada.\n\nContexto Europeo\n\nEUDI Wallet: El MiDNI se enmarca dentro del proyecto de la Cartera Digital Europea (EUDI Wallet)\, una iniciativa que busca unificar los documentos de identidad de todos los estados miembros en una sola aplicación para mejorar la seguridad y facilitar trámites en toda la Unión Europea.\nProtección de menores: Europa planea utilizar estos sistemas de identidad digital para verificar la edad de los usuarios en redes sociales y así proteger a los menores y reducir las ciberestafas.\n\n 
URL:https://enramos.com/evento/entrada-en-vigor-del-dni-digital-midni/
CATEGORIES:Efemérides
END:VEVENT
END:VCALENDAR