BEGIN:VCALENDAR
VERSION:2.0
PRODID:-//Enrique Ramos &amp; Com - ECPv6.15.20//NONSGML v1.0//EN
CALSCALE:GREGORIAN
METHOD:PUBLISH
X-ORIGINAL-URL:https://enramos.com
X-WR-CALDESC:Eventos para Enrique Ramos &amp; Com
REFRESH-INTERVAL;VALUE=DURATION:PT1H
X-Robots-Tag:noindex
X-PUBLISHED-TTL:PT1H
BEGIN:VTIMEZONE
TZID:Europe/Madrid
BEGIN:DAYLIGHT
TZOFFSETFROM:+0100
TZOFFSETTO:+0200
TZNAME:CEST
DTSTART:20250330T010000
END:DAYLIGHT
BEGIN:STANDARD
TZOFFSETFROM:+0200
TZOFFSETTO:+0100
TZNAME:CET
DTSTART:20251026T010000
END:STANDARD
BEGIN:DAYLIGHT
TZOFFSETFROM:+0100
TZOFFSETTO:+0200
TZNAME:CEST
DTSTART:20260329T010000
END:DAYLIGHT
BEGIN:STANDARD
TZOFFSETFROM:+0200
TZOFFSETTO:+0100
TZNAME:CET
DTSTART:20261025T010000
END:STANDARD
BEGIN:DAYLIGHT
TZOFFSETFROM:+0100
TZOFFSETTO:+0200
TZNAME:CEST
DTSTART:20270328T010000
END:DAYLIGHT
BEGIN:STANDARD
TZOFFSETFROM:+0200
TZOFFSETTO:+0100
TZNAME:CET
DTSTART:20271031T010000
END:STANDARD
END:VTIMEZONE
BEGIN:VEVENT
DTSTART;VALUE=DATE:20260915
DTEND;VALUE=DATE:20260916
DTSTAMP:20260424T065451
CREATED:20240915T084823Z
LAST-MODIFIED:20251213T074744Z
UID:28120-1789430400-1789516799@enramos.com
SUMMARY:Aniversario registro dominio Google.com
DESCRIPTION:Aunque según Google su aniversario es el 27 de septiembre (con motivo del lanzamiento público de su buscador)\, el dominio google.com fue registrado el 15 de septiembre de 1997\, por lo que también podría ser considerada la fecha de su creación oficial\, si bien la empresa como tal se creó el 4 de septiembre de 1998 (otra fecha importante a tener en cuenta aunque ya el buscador Google existiera como tal). \nPersonalmente no recuerdo cuando conocí y empecé a utilizar personalmente el buscador Google\, lo que si que recuerdo es que los primeros años de carrera no teníamos formas de buscar webs tal y como lo conocemos hoy en día\, por aquella época la forma de entrar a internet a buscar como tal eran los portales tipo Terra (en España)\, y desde enlaces en otras páginas webs que ya conocieras o que encontraras de alguna manera. \nMucho ha llovido desde entonces\, y mucho queda por llover más aún ahora con el auge de la inteligencia artificial…
URL:https://enramos.com/evento/aniversario-google-com/
CATEGORIES:Aniversarios
END:VEVENT
END:VCALENDAR