BEGIN:VCALENDAR
VERSION:2.0
PRODID:-//Enrique Ramos &amp; Com - ECPv6.15.20//NONSGML v1.0//EN
CALSCALE:GREGORIAN
METHOD:PUBLISH
X-ORIGINAL-URL:https://enramos.com
X-WR-CALDESC:Eventos para Enrique Ramos &amp; Com
REFRESH-INTERVAL;VALUE=DURATION:PT1H
X-Robots-Tag:noindex
X-PUBLISHED-TTL:PT1H
BEGIN:VTIMEZONE
TZID:Europe/Helsinki
BEGIN:DAYLIGHT
TZOFFSETFROM:+0200
TZOFFSETTO:+0300
TZNAME:EEST
DTSTART:20250330T010000
END:DAYLIGHT
BEGIN:STANDARD
TZOFFSETFROM:+0300
TZOFFSETTO:+0200
TZNAME:EET
DTSTART:20251026T010000
END:STANDARD
BEGIN:DAYLIGHT
TZOFFSETFROM:+0200
TZOFFSETTO:+0300
TZNAME:EEST
DTSTART:20260329T010000
END:DAYLIGHT
BEGIN:STANDARD
TZOFFSETFROM:+0300
TZOFFSETTO:+0200
TZNAME:EET
DTSTART:20261025T010000
END:STANDARD
BEGIN:DAYLIGHT
TZOFFSETFROM:+0200
TZOFFSETTO:+0300
TZNAME:EEST
DTSTART:20270328T010000
END:DAYLIGHT
BEGIN:STANDARD
TZOFFSETFROM:+0300
TZOFFSETTO:+0200
TZNAME:EET
DTSTART:20271031T010000
END:STANDARD
END:VTIMEZONE
BEGIN:VEVENT
DTSTART;VALUE=DATE:20260124
DTEND;VALUE=DATE:20260125
DTSTAMP:20260420T023416
CREATED:20190124T153129Z
LAST-MODIFIED:20250323T114645Z
UID:10817-1769212800-1769299199@enramos.com
SUMMARY:Día Internacional de la Educación
DESCRIPTION:La educación es un derecho humano\, un bien público y una responsabilidad colectiva. \nLa Asamblea General de las Naciones Unidas proclamó el 24 de enero Día Internacional de la Educación\, en celebración del papel que la educación desempeña en la paz y el desarrollo. \nSin una educación de calidad\, inclusiva y equitativa para todos y de oportunidades de aprendizaje a lo largo de toda la vida\, los países no lograrán alcanzar la igualdad de género ni romper el ciclo de pobreza que deja rezagados a millones de niños\, jóvenes y adultos. \nEn la actualidad\, 262 millones de niños y jóvenes siguen sin estar escolarizados\, 617 millones de niños y adolescentes no pueden leer ni manejan los rudimentos del cálculo; menos del 40 por ciento de las niñas del África Subsahariana completan los estudios de secundaria baja y unos 4 millones de niños y jóvenes refugiados no pueden asistir a la escuela. El derecho a la educación de estas personas se ve afectado y eso es inaceptable. \n\n\n\n\n\n\n\n\n\n\n\n\n\n\n\n2021\n\n\n\nLa tercera edición del Día Internacional de la Educación (24 de enero) se celebrará el 25 de enero de 2021. El tema de esta edición será “Recuperar y revitalizar la educación para la generación COVID-19”. Es hora de reforzar la educación incrementando la colaboración y la solidaridad internacionales con miras a colocar a la enseñanza y el aprendizaje a lo largo de toda la vida en el centro de la recuperación. \nEl evento internacional de la celebración de este Día está previsto en tres segmentos principales: héroes educandos\, innovaciones y financiación. Se organizará en colaboración con la Oficina Regional de la UNESCO en Nueva York\, la Sede de las Naciones Unidas\, la Alianza Mundial para la Educación y el Centro de Estudios Interdisciplinarios (CRI\, según sus siglas en francés)\, y contará con la participación de asociados de la Coalición Mundial para la Educación. Teniendo en cuenta el espíritu del Día Internacional de la Educación\, el CRI y la UNESCO dirigieron el festival “Learning Planet” con el objetivo de celebrar el aprendizaje en todos los contextos y de compartir las innovaciones que desarrollan el potencial de cada educando\, independientemente de su situación. El CRI también anunciará los ganadores del concurso de escritura “Conversación con El Principito”.
URL:https://enramos.com/evento/dia-internacional-de-la-educacion/
CATEGORIES:Efemérides
END:VEVENT
END:VCALENDAR