BEGIN:VCALENDAR
VERSION:2.0
PRODID:-//Enrique Ramos &amp; Com - ECPv6.15.20//NONSGML v1.0//EN
CALSCALE:GREGORIAN
METHOD:PUBLISH
X-ORIGINAL-URL:https://enramos.com
X-WR-CALDESC:Eventos para Enrique Ramos &amp; Com
REFRESH-INTERVAL;VALUE=DURATION:PT1H
X-Robots-Tag:noindex
X-PUBLISHED-TTL:PT1H
BEGIN:VTIMEZONE
TZID:Europe/Paris
BEGIN:DAYLIGHT
TZOFFSETFROM:+0100
TZOFFSETTO:+0200
TZNAME:CEST
DTSTART:20250330T010000
END:DAYLIGHT
BEGIN:STANDARD
TZOFFSETFROM:+0200
TZOFFSETTO:+0100
TZNAME:CET
DTSTART:20251026T010000
END:STANDARD
BEGIN:DAYLIGHT
TZOFFSETFROM:+0100
TZOFFSETTO:+0200
TZNAME:CEST
DTSTART:20260329T010000
END:DAYLIGHT
BEGIN:STANDARD
TZOFFSETFROM:+0200
TZOFFSETTO:+0100
TZNAME:CET
DTSTART:20261025T010000
END:STANDARD
BEGIN:DAYLIGHT
TZOFFSETFROM:+0100
TZOFFSETTO:+0200
TZNAME:CEST
DTSTART:20270328T010000
END:DAYLIGHT
BEGIN:STANDARD
TZOFFSETFROM:+0200
TZOFFSETTO:+0100
TZNAME:CET
DTSTART:20271031T010000
END:STANDARD
END:VTIMEZONE
BEGIN:VEVENT
DTSTART;VALUE=DATE:20260927
DTEND;VALUE=DATE:20260928
DTSTAMP:20260422T085038
CREATED:20170826T074621Z
LAST-MODIFIED:20251213T074940Z
UID:8107-1790467200-1790553599@enramos.com
SUMMARY:Aniversario GNU
DESCRIPTION:El 27 de septiembre de 1983\, Richard Stallman anunció al mundo su objetivo de escribir un sistema operativo libre compatible con UNIX\, es decir\, que no exigiría a los usuarios renunciar a sus libertades para ejecutar\, estudiar\, modificar y distribuir cualquier software modificado o no. \nA continuación reproduzco el anuncio oficial traducido extraído de la página web del proyecto GNU: \n\n¡Unix Libre!\nA partir del próximo Día de Acción de Gracias comenzaré a escribir un sistema de software completo compatible con Unix llamado GNU (que significa «Gnu No es Unix»)\, y lo distribuiré libremente para que todos puedan usarlo. Son muy necesarias las contribuciones de dinero\, programas y equipos. \nInicialmente GNU constará de un núcleo de sistema [«kernel»]\, más todas las utilidades necesarias para escribir y ejecutar programas en lenguaje C: editor\, interfaz de comandos [«shell»]\, compilador C\, enlazador\, ensamblador\, y algunos otros instrumentos. Después agregaremos un formateador de texto\, una versión de YACC\, un juego Empire\, una hoja de cálculo\, y cientos de otras cosas. En el futuro esperamos proporcionar todo lo que es útil y que normalmente viene con un sistema Unix\, como así también cualquier otro elemento de utilidad\, incluyendo documentación online e impresa. \nGNU podrá ejecutar programas Unix\, pero no será idéntico a Unix. Haremos todas las mejoras que son convenientes\, en base a nuestra experiencia con otros sistemas operativos. En particular\, planeamos tener nombres de archivos más largos\, números de versión para los archivos\, un sistema de archivos a prueba de caídas\, quizás conclusión automática de los nombres de los archivos\, soporte para despliegue independiente del terminal y\, posteriormente\, un sistema de ventanas basado en Lisp a través del cual varios programas Lisp y programas Unix comunes podrán compartir una pantalla. Tanto C como Lisp estarán disponibles como lenguajes de programación del sistema. Tendremos software de red basado en el protocolo chaosnet desarrollado en el MIT\, muy superior a UUCP. Quizás también hagamos algo compatible con UUCP. \n¿Quién soy?\nSoy Richard Stallman\, inventor del original y muchas veces imitado editor EMACS; actualmente me encuentro en el Laboratorio de Inteligencia Artificial del MIT. He trabajado mucho en compiladores\, editores\, depuradores\, intérpretes de comandos\, el Sistema Incompatible de Tiempo Compartido y el sistema operativo de la máquina Lisp. Introduje el soporte de visualización independiente del treminal en el ITS. Además he implementado un sistema de archivos a prueba de caídas y dos sistemas de ventanas para las máquinas Lisp. \nPor qué debo escribir GNU\nConsidero que la regla de oro exige que si a mí me gusta un programa\, debo compartirlo con otras personas a quienes también les gusta. Mi conciencia no me permite firmar un acuerdo de confidencialidad o un acuerdo de licencia de software. \nPara poder seguir utilizando computadoras sin violar mis principios\, he decidido reunir suficiente software libre para no tener que usar ningún programa que no sea llibre. \nCómo contribuir\nA los fabricantes de computadoras les pido donaciones de máquinas y de dinero. A las demás personas les pido la donación de programas y de trabajo. \nUn fabricante de computadoras ya ha ofrecido una máquina\, pero podríamos utilizar más. El resultado que pueden esperar quienes donan computadoras es que sus máquinas serán las primeras en ejecutar GNU. La máquina debe ser capaz de operar preferiblemente en un área residencial\, y no requerir sofisticados sistemas de energía o de refrigeración. \nLos programadores pueden contribuir escribiendo una copia compatible de alguna utilidad Unix y entregándomela a mí. Para la mayoría de los proyectos\, tal distribución del trabajo de tiempo parcial sería muy difícil de coordinar; las partes escritas de forma independiente no funcionarían juntas. Pero este problema no existe para la tarea particular de reemplazar Unix. Casi todas las especificaciones de la interfaz son determinadas por la compatibilidad con Unix. Si cada contribución funciona con el resto de Unix\, probablemente funcionará con el resto de GNU. \nSi recibo donaciones de dinero\, quizá pueda contratar a algunas personas a tiempo completo o parcial. El salario no será alto\, pero estoy buscando personas para quienes ayudar a la humanidad sea tan importante como el dinero. Lo veo como una forma de dar a las personas interesadas la oportunidad de dedicar todas sus energías a trabajar en GNU\, ahorrándose la necesidad de tener que ganarse la vida de otra manera.
URL:https://enramos.com/evento/aniversario-gnu/
CATEGORIES:Efemérides,Software Libre
END:VEVENT
END:VCALENDAR